BEGIN:VCALENDAR
VERSION:2.0
PRODID:-//AÏKIDO - ECPv4.6.26//NONSGML v1.0//EN
CALSCALE:GREGORIAN
METHOD:PUBLISH
X-WR-CALNAME:AÏKIDO
X-ORIGINAL-URL:https://aikido-nordpasdecalais.fr
X-WR-CALDESC:Évènements pour AÏKIDO
BEGIN:VEVENT
DTSTART;VALUE=DATE:20260226
DTEND;VALUE=DATE:20260227
DTSTAMP:20260422T094614
CREATED:20251212T161454Z
LAST-MODIFIED:20260128T124149Z
UID:17527-1772064000-1772150399@aikido-nordpasdecalais.fr
SUMMARY:Stage Kenjutsu dirigé par Benoît MABIRE (6e dan) et Fabien JACQUET (4e Dan)
DESCRIPTION:Télécharger et imprimer l’affiche : 2026_02_21_stage_kenjustsu\n \n
URL:https://aikido-nordpasdecalais.fr/event/stage-kenjutsu-dirige-par-benoit-mabire-6e-dan-et-fabien-jacquet-4e-dan/
LOCATION:Loos-lez-Lille\, Salle H. Gomane\, 40 parc Notre Dame\, Loos-lez-Lille\, Hauts-de-France\, 59120\, France
CATEGORIES:Stages privés
END:VEVENT
END:VCALENDAR